BEGIN:VCALENDAR
VERSION:2.0
PRODID:icalendar-ruby
CALSCALE:GREGORIAN
METHOD:PUBLISH
BEGIN:VEVENT
DTSTAMP:20260423T111156Z
UID:245-172521@ctk-nola.org
DTSTART:20260809T140000Z
DTEND:20260809T150000Z
CLASS:PUBLIC
CREATED:20260422T211643
DESCRIPTION:
LAST-MODIFIED:20260422T211643
LOCATION:CTK in the Conference/Choir Room
SUMMARY:Adult Bible Study
URL;VALUE=URI:https://www.ctk-nola.org/events/adult-bible-study--245/2026-0
 8-09
END:VEVENT
END:VCALENDAR
