BEGIN:VCALENDAR
VERSION:2.0
PRODID:icalendar-ruby
CALSCALE:GREGORIAN
METHOD:PUBLISH
BEGIN:VEVENT
DTSTAMP:20260423T024843Z
UID:245-172516@ctk-nola.org
DTSTART:20260705T140000Z
DTEND:20260705T150000Z
CLASS:PUBLIC
CREATED:20260422T211643
DESCRIPTION:
LAST-MODIFIED:20260422T211643
LOCATION:CTK in the Conference/Choir Room
SUMMARY:Adult Bible Study
URL;VALUE=URI:https://www.ctk-nola.org/events/adult-bible-study--245/2026-0
 7-05
END:VEVENT
END:VCALENDAR
