BEGIN:VCALENDAR
VERSION:2.0
PRODID:icalendar-ruby
CALSCALE:GREGORIAN
METHOD:PUBLISH
BEGIN:VEVENT
DTSTAMP:20260422T214400Z
UID:245-172453@ctk-nola.org
DTSTART:20260614T140000Z
DTEND:20260614T150000Z
CLASS:PUBLIC
CREATED:20260422T153101
DESCRIPTION:
LAST-MODIFIED:20260422T153101
LOCATION:CTK in the Conference/Choir Room
SUMMARY:Adult Bible Study
URL;VALUE=URI:https://www.ctk-nola.org/events/adult-bible-study--245/2026-0
 6-14
END:VEVENT
END:VCALENDAR
