BEGIN:VCALENDAR
VERSION:2.0
PRODID:icalendar-ruby
CALSCALE:GREGORIAN
METHOD:PUBLISH
BEGIN:VEVENT
DTSTAMP:20260422T150111Z
UID:245-172389@ctk-nola.org
DTSTART:20260517T140000Z
DTEND:20260517T150000Z
CLASS:PUBLIC
CREATED:20260422T094039
DESCRIPTION:
LAST-MODIFIED:20260422T094039
LOCATION:CTK in the Conference/Choir Room
SUMMARY:Adult Bible Study
URL;VALUE=URI:https://www.ctk-nola.org/events/adult-bible-study--245/2026-0
 5-17
END:VEVENT
END:VCALENDAR
