BEGIN:VCALENDAR
VERSION:2.0
PRODID:icalendar-ruby
CALSCALE:GREGORIAN
METHOD:PUBLISH
BEGIN:VEVENT
DTSTAMP:20260422T114207Z
UID:245-172327@ctk-nola.org
DTSTART:20260503T140000Z
DTEND:20260503T150000Z
CLASS:PUBLIC
CREATED:20260421T194234
DESCRIPTION:
LAST-MODIFIED:20260421T194234
LOCATION:CTK in the Conference/Choir Room
SUMMARY:Adult Bible Study
URL;VALUE=URI:https://www.ctk-nola.org/events/adult-bible-study--245/2026-0
 5-03
END:VEVENT
END:VCALENDAR
