BEGIN:VCALENDAR
VERSION:2.0
PRODID:icalendar-ruby
CALSCALE:GREGORIAN
METHOD:PUBLISH
BEGIN:VEVENT
DTSTAMP:20260422T100552Z
UID:245-172326@ctk-nola.org
DTSTART:20260426T140000Z
DTEND:20260426T150000Z
CLASS:PUBLIC
CREATED:20260421T194234
DESCRIPTION:
LAST-MODIFIED:20260421T194234
LOCATION:CTK in the Conference/Choir Room
SUMMARY:Adult Bible Study
URL;VALUE=URI:https://www.ctk-nola.org/events/adult-bible-study--245/2026-0
 4-26
END:VEVENT
END:VCALENDAR
